BEGIN:VCALENDAR
VERSION:2.0
PRODID:-//Lemon Art Magazine - ECPv6.15.20//NONSGML v1.0//EN
CALSCALE:GREGORIAN
METHOD:PUBLISH
X-ORIGINAL-URL:https://lemonartmag.com
X-WR-CALDESC:Eventos para Lemon Art Magazine
REFRESH-INTERVAL;VALUE=DURATION:PT1H
X-Robots-Tag:noindex
X-PUBLISHED-TTL:PT1H
BEGIN:VTIMEZONE
TZID:America/Argentina/Buenos_Aires
BEGIN:STANDARD
TZOFFSETFROM:-0300
TZOFFSETTO:-0300
TZNAME:-03
DTSTART:20250101T000000
END:STANDARD
END:VTIMEZONE
BEGIN:VEVENT
DTSTART;VALUE=DATE:20260315
DTEND;VALUE=DATE:20260316
DTSTAMP:20260419T101434
CREATED:20250917T124557Z
LAST-MODIFIED:20251004T215345Z
UID:1000063-1773532800-1773619199@lemonartmag.com
SUMMARY:1st Aion Digital Art Prize launched by Ise-Shima Art
DESCRIPTION:International call for the inaugural Aion Digital Art Prize in Japan\nThe Ise-Shima Art Committee has announced the 1st Aion Digital Art Prize\, an international competition dedicated to digital art. Open to creators worldwide\, the prize seeks to highlight innovative practices that merge technology with artistic expression\, expanding the field of contemporary digital creativity. \nDetails and deadlines\n\nOrganizer: Ise-Shima Art Committee\nPrize: Aion Digital Art Prize (1st edition)\nDeadline: March 15\, 2026\nEligibility: Open to artists of all nationalities\, working in digital media\nApplication: Submit through the official application page\n\nWhy it matters for art travelers\nLocated in Japan’s Mie Prefecture\, the Ise-Shima region is known for its cultural heritage and natural landscapes. Hosting the first Aion Digital Art Prize connects this tradition with the cutting edge of digital arts. For art travelers\, it represents an opportunity to discover emerging voices shaping the dialogue between technology and culture. \nAwards and recognition\nWinners of the Aion Digital Art Prize will receive international visibility and a certificate of recognition. While this first edition emphasizes participation and global outreach\, the competition also signals the growing importance of digital art in global contexts. \nAbout the organizer\nThe Ise-Shima Art Committee\, based in Mie\, Japan\, has been promoting artistic initiatives that bridge local culture with international practice. The launch of the Aion Digital Art Prize reflects its commitment to creating platforms where digital innovation and artistic practice converge. \nFor further details\, visit the official competition page. Artists seeking similar opportunities can explore more in our Open Calls section.
URL:https://lemonartmag.com/event/1st-aion-digital-art-prize-launched-by-ise-shima-art/
LOCATION:No Location
CATEGORIES:Open Calls
ATTACH;FMTTYPE=image/jpeg:https://lemonartmag.com/wp-content/uploads/2025/09/Aion-Digital-Art-Prize.jpg
END:VEVENT
BEGIN:VEVENT
DTSTART;VALUE=DATE:20260315
DTEND;VALUE=DATE:20260316
DTSTAMP:20260419T101434
CREATED:20251128T010739Z
LAST-MODIFIED:20251128T010831Z
UID:1000403-1773532800-1773619199@lemonartmag.com
SUMMARY:Open Call: SUGART Photography
DESCRIPTION:SUGART launches its 2026 photography contest with Canon EOS R50 prizes\nSubmission deadline: March 15\, 2026 \nThe creative platform SUGART announces the open call for its March 2026 photography competition. This year’s edition invites emerging and established photographers to participate for the chance to win two Canon EOS R50 cameras\, plus online visibility and an exclusive interview. The challenge focuses on capturing the unique character of Spain’s capital under the theme “Capture the Essence of Madrid.” \nHow to participate\nThe application process runs from 1–15 March 2026. Interested photographers must submit the following materials via email: \n\nFull name\nPhone number\nInstagram link\nPortfolio\nA short video explaining why you want to participate\n\nPublic voting phase\nOnce submissions close\, SUGART will share all portfolios through its Instagram stories. Finalists will be selected based on a combined voting system: 80% public vote + 20% organization. This format gives applicants strong exposure and real audience engagement. \nAnnouncement of selected artists\nThe top 10 most voted photographers will be announced on 19 March 2026. These artists will be invited to exhibit their work during the event held on 29 March at OHM Espacio. \nSemifinal: live presentation\nThe selected photographers must present three photographs aligned with the theme “Capturing the Essence of Madrid.” During the semifinal event\, each participant will defend their proposal live before a specialized jury. \nAt the end of the session\, only two finalists will advance to the Grand Final Event scheduled for early 2026. \nPrizes\n\nTwo Canon EOS R50 cameras\nFeature on SUGART’s website\nExclusive interview and social media visibility\n\nSubmission deadline: March 15\, 2026 \n  \nExplore more international open calls here.
URL:https://lemonartmag.com/event/open-call-sugart-photography-capture-the-essence-of-madrid-2026/
LOCATION:No Location
CATEGORIES:Open Calls
ATTACH;FMTTYPE=image/png:https://lemonartmag.com/wp-content/uploads/2025/11/SUGART-Photography-2026-e1764293033273.png
END:VEVENT
BEGIN:VEVENT
DTSTART;VALUE=DATE:20260331
DTEND;VALUE=DATE:20260401
DTSTAMP:20260419T101434
CREATED:20250917T123216Z
LAST-MODIFIED:20251004T215358Z
UID:1000060-1774915200-1775001599@lemonartmag.com
SUMMARY:International Landscape Art Competition by TERAVARNA
DESCRIPTION:TERAVARNA opens submissions for its 13th Landscape Art Competition\nTERAVARNA has launched the 13th edition of its International Juried Landscape Art Competition\, inviting artists worldwide to explore the genre of landscape in all its forms. From natural sceneries to urban environments\, the open call welcomes diverse interpretations and styles\, offering cash prizes and global exposure. \nSubmission details and deadlines\n\n\nDeadline: March 31\, 2026 (no extensions) \n\n\nWinner notification: April 5\, 2026 \n\n\nExhibition dates: April 6 – April 29\, 2026 \n\n\nEntry fee: $15 per artwork (non-refundable) \n\n\nApplications can be submitted directly via the official TERAVARNA website. \nEligibility and categories\nThe competition is open to artists aged 18 and above\, working across multiple media. Categories include painting\, mixed media\, photography\, digital art\, sculpture\, and installation. Both natural and artificial landscapes are considered\, encompassing cityscapes\, seascapes\, abstract concepts\, and more. \nAwards and recognition\nA total of up to $3\,500 in cash prizes will be distributed among winners\, with categories ranging from First Prize to Honorable Mentions. All selected artists will receive Certificates of Recognition\, providing valuable professional acknowledgment. \nRelevance for art travelers\nLandscape art has long served as a lens through which cultures interpret their environments. For art travelers\, this competition represents an opportunity to witness global perspectives on landscapes and discover how artists from different regions transform geography into artistic expression. \nAbout TERAVARNA\nTERAVARNA is an international platform that hosts recurring art competitions and exhibitions\, aiming to provide visibility to emerging and established artists alike. Its Landscape Art Competition stands as one of its most anticipated open calls\, attracting a wide and diverse pool of participants. \nFor more information\, visit the official competition page. \n\nDiscover more opportunities for artists around the world in our Open Calls
URL:https://lemonartmag.com/event/international-landscape-art-competition-by-teravarna/
LOCATION:No Location
CATEGORIES:Open Calls
ATTACH;FMTTYPE=image/jpeg:https://lemonartmag.com/wp-content/uploads/2025/09/International-Landscape-Art-Competition.jpg
END:VEVENT
END:VCALENDAR